BEGIN:VCALENDAR
VERSION:2.0
PRODID:SchoolNow
CALSCALE:GREGORIAN
BEGIN:VEVENT
UID:25b262fa-589b-11ee-b2c6-0a58a9feac02
DTSTAMP:20240905T172906Z
SUMMARY:CDD Board Meeting - Sept. 2024
LOCATION:Ella at Encore\, located at 1210 Ray Charles Blvd\, Tampa\, FL 336
 02
URL;VALUE=URI:https://www.encorecdd.org/calendar/4774387/cdd-board-meeting-
 sept-2024
DTSTART:20240905T200000Z
DTEND:20240905T210000Z
ATTACH;FILENAME=2024-09-05- Encore CDD-  Revised Final Agenda.pdf;FMTTYPE=a
 pplication/pdf:https://campussuite-storage.s3.amazonaws.com/prod/1558904/2
 fded02e-ea9f-11e9-a183-0a20d2c7fac4/2842289/565a6d88-6bac-11ef-881c-024778
 551df7/file/2024-09-05- Encore CDD-  Revised Final Agenda.pdf
END:VEVENT
END:VCALENDAR
