BEGIN:VCALENDAR
VERSION:2.0
PRODID:SchoolNow
CALSCALE:GREGORIAN
BEGIN:VEVENT
UID:1423455a-79af-11ef-804a-02c474388185
DTSTAMP:20240926T131438Z
SUMMARY:CDD Board Meeting - Oct. 2024
LOCATION:Ella at Encore\, located at 1210 Ray Charles Blvd\, Tampa\, FL 336
 02
URL;VALUE=URI:https://www.encorecdd.org/calendar/6670655/cdd-board-meeting-
 oct-2024
DTSTART:20241003T200000Z
DTEND:20241003T210000Z
ATTACH;FILENAME=2024-10-03- Encore CDD- Final Agenda.pdf;FMTTYPE=applicatio
 n/pdf:https://campussuite-storage.s3.amazonaws.com/prod/1558904/2fded02e-e
 a9f-11e9-a183-0a20d2c7fac4/2853685/432b855e-7c09-11ef-8d8d-0affcb6e65f5/fi
 le/2024-10-03- Encore CDD- Final Agenda.pdf
END:VEVENT
END:VCALENDAR
