BEGIN:VCALENDAR
VERSION:2.0
PRODID:SchoolNow
CALSCALE:GREGORIAN
BEGIN:VEVENT
UID:1d4f9642-79af-11ef-95e8-0a58a9feac02
DTSTAMP:20241031T201950Z
SUMMARY:CDD Board Meeting - Nov. 2024
LOCATION:Ella at Encore\, located at 1210 Ray Charles Blvd\, Tampa\, FL 336
 02
URL;VALUE=URI:https://www.encorecdd.org/calendar/6670656/cdd-board-meeting-
 nov-2024
DTSTART:20241107T210000Z
DTEND:20241107T220000Z
ATTACH;FILENAME=2024-11-07 Encore Final Agenda Pkg.pdf;FMTTYPE=application/
 pdf:https://campussuite-storage.s3.amazonaws.com/prod/1558904/2fded02e-ea9
 f-11e9-a183-0a20d2c7fac4/2872332/78016bae-97c5-11ef-8438-0affd5c2892b/file
 /2024-11-07 Encore Final Agenda Pkg.pdf
END:VEVENT
END:VCALENDAR
