BEGIN:VCALENDAR
VERSION:2.0
PRODID:SchoolNow
CALSCALE:GREGORIAN
BEGIN:VEVENT
UID:25b3108e-79af-11ef-a30a-0a58a9feac02
DTSTAMP:20241205T175041Z
SUMMARY:CDD Board Meeting - Dec. 2024
LOCATION:Ella at Encore\, located at 1210 Ray Charles Blvd\, Tampa\, FL 336
 02
URL;VALUE=URI:https://www.encorecdd.org/calendar/6670657/cdd-board-meeting-
 dec-2024
DTSTART:20241205T210000Z
DTEND:20241205T220000Z
ATTACH;FILENAME=2024-12-05- Encore CDD- Final Agenda.pdf;FMTTYPE=applicatio
 n/pdf:https://campussuite-storage.s3.amazonaws.com/prod/1558904/2fded02e-e
 a9f-11e9-a183-0a20d2c7fac4/2885170/cfd1bff2-acdb-11ef-8369-0a58a9feac02/fi
 le/2024-12-05- Encore CDD- Final Agenda.pdf
ATTACH;FILENAME=2024-12-03 - Encore CDD - Landscape Inspection Report (red)
 .pdf;FMTTYPE=application/pdf:https://campussuite-storage.s3.amazonaws.com/
 prod/1558904/2fded02e-ea9f-11e9-a183-0a20d2c7fac4/2887347/6a00d026-b331-11
 ef-baa6-0a58a9feac02/file/2024-12-03 - Encore CDD - Landscape Inspection R
 eport (red).pdf
ATTACH;FILENAME=Encore CEP and Buildings IS Report October 2024.pdf;FMTTYPE
 =application/pdf:https://campussuite-storage.s3.amazonaws.com/prod/1558904
 /2fded02e-ea9f-11e9-a183-0a20d2c7fac4/2887346/6a0090fc-b331-11ef-a794-0a58
 a9feac02/file/Encore CEP and Buildings IS Report October 2024.pdf
END:VEVENT
END:VCALENDAR
