BEGIN:VCALENDAR
VERSION:2.0
PRODID:SchoolNow
CALSCALE:GREGORIAN
BEGIN:VEVENT
UID:31442596-79af-11ef-9157-0a58a9feac02
DTSTAMP:20241206T151343Z
SUMMARY:CDD Board Meeting - Jan. 2025 - Cancelled
LOCATION:Ella at Encore\, located at 1210 Ray Charles Blvd\, Tampa\, FL 336
 02
URL;VALUE=URI:https://www.encorecdd.org/calendar/6670658/cdd-board-meeting-
 jan-2025-cancelled
DTSTART:20250102T210000Z
DTEND:20250102T220000Z
END:VEVENT
END:VCALENDAR
