BEGIN:VCALENDAR
VERSION:2.0
PRODID:SchoolNow
CALSCALE:GREGORIAN
BEGIN:VEVENT
UID:3ad57aba-79af-11ef-a649-0a58a9feac02
DTSTAMP:20250203T191100Z
SUMMARY:CDD Board Meeting - Feb. 2025
LOCATION:Ella at Encore\, located at 1210 Ray Charles Blvd\, Tampa\, FL 336
 02
URL;VALUE=URI:https://www.encorecdd.org/calendar/6670659/cdd-board-meeting-
 feb-2025
DTSTART:20250206T210000Z
DTEND:20250206T220000Z
ATTACH;FILENAME=2025-02-06  Encore CDD- Revised Final Agenda (1).pdf;FMTTYP
 E=application/pdf:https://campussuite-storage.s3.amazonaws.com/prod/155890
 4/2fded02e-ea9f-11e9-a183-0a20d2c7fac4/2910843/93fdaa10-e262-11ef-ae81-02b
 5204cd0bd/file/2025-02-06  Encore CDD- Revised Final Agenda (1).pdf
END:VEVENT
END:VCALENDAR
