BEGIN:VCALENDAR
VERSION:2.0
PRODID:SchoolNow
CALSCALE:GREGORIAN
BEGIN:VEVENT
UID:4dbaffe2-79af-11ef-beb6-0a58a9feac02
DTSTAMP:20250402T172803Z
SUMMARY:CDD Board Meeting - Apr. 2025
LOCATION:Ella at Encore\, located at 1210 Ray Charles Blvd\, Tampa\, FL 336
 02
URL;VALUE=URI:https://www.encorecdd.org/calendar/6670661/cdd-board-meeting-
 apr-2025
DTSTART:20250403T200000Z
DTEND:20250403T210000Z
ATTACH;FILENAME=2025-04-03- Encore CDD- Revised Final Agenda.pdf;FMTTYPE=ap
 plication/pdf:https://campussuite-storage.s3.amazonaws.com/prod/1558904/2f
 ded02e-ea9f-11e9-a183-0a20d2c7fac4/2935197/cf005222-0fe7-11f0-897c-0a58a9f
 eac02/file/2025-04-03- Encore CDD- Revised Final Agenda.pdf
END:VEVENT
END:VCALENDAR
