BEGIN:VCALENDAR
VERSION:2.0
PRODID:SchoolNow
CALSCALE:GREGORIAN
BEGIN:VEVENT
UID:57035c2a-79af-11ef-967c-0affc335a76f
DTSTAMP:20250501T163940Z
SUMMARY:CDD Board Meeting - May 2025
LOCATION:Ella at Encore\, located at 1210 Ray Charles Blvd\, Tampa\, FL 336
 02
URL;VALUE=URI:https://www.encorecdd.org/calendar/6670662/cdd-board-meeting-
 may-2025
DTSTART:20250501T200000Z
DTEND:20250501T210000Z
ATTACH;FILENAME=2025-05-01-  Encore CDD- Revised Final Agenda.pdf;FMTTYPE=a
 pplication/pdf:https://campussuite-storage.s3.amazonaws.com/prod/1558904/2
 fded02e-ea9f-11e9-a183-0a20d2c7fac4/2947696/8801350a-26a6-11f0-8daf-0e56e2
 20a191/file/2025-05-01-  Encore CDD- Revised Final Agenda.pdf
END:VEVENT
END:VCALENDAR
