BEGIN:VCALENDAR
VERSION:2.0
PRODID:SchoolNow
CALSCALE:GREGORIAN
BEGIN:VEVENT
UID:617f2a26-79af-11ef-837d-0a58a9feac02
DTSTAMP:20250530T152403Z
SUMMARY:CDD Board Meeting - Jun. 2025
LOCATION:Ella at Encore\, located at 1210 Ray Charles Blvd\, Tampa\, FL 336
 02
URL;VALUE=URI:https://www.encorecdd.org/calendar/6670663/cdd-board-meeting-
 jun-2025
DTSTART:20250605T200000Z
DTEND:20250605T210000Z
ATTACH;FILENAME=2025-06-05- Encore CDD- Final Agenda.pdf;FMTTYPE=applicatio
 n/pdf:https://campussuite-storage.s3.amazonaws.com/prod/1558904/2fded02e-e
 a9f-11e9-a183-0a20d2c7fac4/2960905/31be658e-3bfd-11f0-8a97-0affeeccff39/fi
 le/2025-06-05- Encore CDD- Final Agenda.pdf
END:VEVENT
END:VCALENDAR
