BEGIN:VCALENDAR
VERSION:2.0
PRODID:SchoolNow
CALSCALE:GREGORIAN
BEGIN:VEVENT
UID:6b38766c-79af-11ef-99b0-0a58a9feac02
DTSTAMP:20250702T145954Z
SUMMARY:CDD Board Meeting - Jul. 2025
LOCATION:Ella at Encore\, located at 1210 Ray Charles Blvd\, Tampa\, FL 336
 02
URL;VALUE=URI:https://www.encorecdd.org/calendar/6670664/cdd-board-meeting-
 jul-2025
DTSTART:20250702T200000Z
DTEND:20250702T210000Z
ATTACH;FILENAME=2025-07-02- Encore CDD- Revised Final Agenda.pdf;FMTTYPE=ap
 plication/pdf:https://campussuite-storage.s3.amazonaws.com/prod/1558904/2f
 ded02e-ea9f-11e9-a183-0a20d2c7fac4/2977703/303c55c2-5755-11f0-85b7-0a58a9f
 eac02/file/2025-07-02- Encore CDD- Revised Final Agenda.pdf
END:VEVENT
END:VCALENDAR
