BEGIN:VCALENDAR
VERSION:2.0
PRODID:SchoolNow
CALSCALE:GREGORIAN
BEGIN:VEVENT
UID:762874dc-79af-11ef-97ff-0e1c7e28ae57
DTSTAMP:20250814T161044Z
SUMMARY:CDD Board Meeting - Aug. 2025
LOCATION:Ella at Encore\, located at 1210 Ray Charles Blvd\, Tampa\, FL 336
 02
URL;VALUE=URI:https://www.encorecdd.org/calendar/6670665/cdd-board-meeting-
 aug-2025
DTSTART:20250814T200000Z
DTEND:20250814T210000Z
ATTACH;FILENAME=2025-08-14- Encore CDD- Revised Final Agenda.pdf;FMTTYPE=ap
 plication/pdf:https://campussuite-storage.s3.amazonaws.com/prod/1558904/2f
 ded02e-ea9f-11e9-a183-0a20d2c7fac4/2993202/361c772e-7929-11f0-8eed-026868b
 05a49/file/2025-08-14- Encore CDD- Revised Final Agenda.pdf
END:VEVENT
END:VCALENDAR
