BEGIN:VCALENDAR
VERSION:2.0
PRODID:SchoolNow
CALSCALE:GREGORIAN
BEGIN:VEVENT
UID:80a83b2c-79af-11ef-90fe-0a58a9feac02
DTSTAMP:20250910T121359Z
SUMMARY:CDD Board Meeting - Sept. 2025
LOCATION:Ella at Encore\, located at 1210 Ray Charles Blvd\, Tampa\, FL 336
 02
URL;VALUE=URI:https://www.encorecdd.org/calendar/6670667/cdd-board-meeting-
 sept-2025
DTSTART:20250911T173000Z
DTEND:20250911T183000Z
ATTACH;FILENAME=2025-09-11- Encore CDD- Revised Final Agenda (1).pdf;FMTTYP
 E=application/pdf:https://campussuite-storage.s3.amazonaws.com/prod/155890
 4/2fded02e-ea9f-11e9-a183-0a20d2c7fac4/3005407/9e97d32c-8e3f-11f0-803a-0a5
 8a9feac02/file/2025-09-11- Encore CDD- Revised Final Agenda (1).pdf
END:VEVENT
END:VCALENDAR
