BEGIN:VCALENDAR
VERSION:2.0
PRODID:SchoolNow
CALSCALE:GREGORIAN
BEGIN:VEVENT
UID:a91141c0-b3e4-11ef-8998-0a58a9feac02
DTSTAMP:20250103T212301Z
SUMMARY:CDD Board Meeting - Jan. 2025
LOCATION:Ella at Encore\, located at 1210 Ray Charles Blvd\, Tampa\, FL 336
 02
URL;VALUE=URI:https://www.encorecdd.org/calendar/7130545/cdd-board-meeting-
 jan-2025-clone
DTSTART:20250109T210000Z
DTEND:20250109T220000Z
ATTACH;FILENAME=2025-01-09 Encore CDD Final Agenda.pdf;FMTTYPE=application/
 pdf:https://campussuite-storage.s3.amazonaws.com/prod/1558904/2fded02e-ea9
 f-11e9-a183-0a20d2c7fac4/2898044/ce80faf0-ca18-11ef-9239-0a58a9feac02/file
 /2025-01-09 Encore CDD Final Agenda.pdf
END:VEVENT
END:VCALENDAR
