BEGIN:VCALENDAR
VERSION:2.0
PRODID:SchoolNow
CALSCALE:GREGORIAN
BEGIN:VEVENT
UID:11e23b98-922c-11f0-8547-02783b3868e5
DTSTAMP:20251006T153215Z
SUMMARY:CDD Board Meeting - Oct. 2025
LOCATION:Ella at Encore\, located at 1210 Ray Charles Blvd\, Tampa\, FL 336
 02
URL;VALUE=URI:https://www.encorecdd.org/calendar/8623634/cdd-board-meeting-
 oct-2025
DTSTART:20251009T173000Z
DTEND:20251009T183000Z
ATTACH;FILENAME=2025-10-09- Encore CDD - Revised Final Agenda.pdf;FMTTYPE=a
 pplication/pdf:https://campussuite-storage.s3.amazonaws.com/prod/1558904/2
 fded02e-ea9f-11e9-a183-0a20d2c7fac4/3017593/a006604a-a2c9-11f0-bdde-0a58a9
 feac02/file/2025-10-09- Encore CDD - Revised Final Agenda.pdf
END:VEVENT
END:VCALENDAR
