BEGIN:VCALENDAR
VERSION:2.0
PRODID:SchoolNow
CALSCALE:GREGORIAN
BEGIN:VEVENT
UID:32b42e30-922c-11f0-a851-0efaca80e931
DTSTAMP:20251204T192608Z
SUMMARY:CDD Board Meeting - Dec. 2025
LOCATION:Ella at Encore\, located at 1210 Ray Charles Blvd\, Tampa\, FL 336
 02
URL;VALUE=URI:https://www.encorecdd.org/calendar/8623636/cdd-board-meeting-
 dec-2025
DTSTART:20251211T183000Z
DTEND:20251211T193000Z
ATTACH;FILENAME=2025-12-11- Encore CDD- Final Agenda.pdf;FMTTYPE=applicatio
 n/pdf:https://campussuite-storage.s3.amazonaws.com/prod/1558904/2fded02e-e
 a9f-11e9-a183-0a20d2c7fac4/3047713/13533a4a-d147-11f0-aea7-0a58a9feac02/fi
 le/2025-12-11- Encore CDD- Final Agenda.pdf
END:VEVENT
END:VCALENDAR
