BEGIN:VCALENDAR
VERSION:2.0
PRODID:SchoolNow
CALSCALE:GREGORIAN
BEGIN:VEVENT
UID:84f51254-922c-11f0-a11f-0a58a9feac02
DTSTAMP:20250915T120715Z
SUMMARY:CDD Board Meeting - Sept. 2026
LOCATION:Ella at Encore\, located at 1210 Ray Charles Blvd\, Tampa\, FL 336
 02
URL;VALUE=URI:https://www.encorecdd.org/calendar/8623645/cdd-board-meeting-
 sept-2026
DTSTART:20260910T173000Z
DTEND:20260910T183000Z
END:VEVENT
END:VCALENDAR
